BEGIN:VCALENDAR
VERSION:2.0
PRODID:-//The Economy of Francesco - ECPv6.15.20//NONSGML v1.0//EN
CALSCALE:GREGORIAN
METHOD:PUBLISH
X-WR-CALNAME:The Economy of Francesco
X-ORIGINAL-URL:https://francescoeconomy.org/it/
X-WR-CALDESC:Eventi per The Economy of Francesco
REFRESH-INTERVAL;VALUE=DURATION:PT1H
X-Robots-Tag:noindex
X-PUBLISHED-TTL:PT1H
BEGIN:VTIMEZONE
TZID:Europe/Rome
BEGIN:DAYLIGHT
TZOFFSETFROM:+0100
TZOFFSETTO:+0200
TZNAME:CEST
DTSTART:20240331T010000
END:DAYLIGHT
BEGIN:STANDARD
TZOFFSETFROM:+0200
TZOFFSETTO:+0100
TZNAME:CET
DTSTART:20241027T010000
END:STANDARD
BEGIN:DAYLIGHT
TZOFFSETFROM:+0100
TZOFFSETTO:+0200
TZNAME:CEST
DTSTART:20250330T010000
END:DAYLIGHT
BEGIN:STANDARD
TZOFFSETFROM:+0200
TZOFFSETTO:+0100
TZNAME:CET
DTSTART:20251026T010000
END:STANDARD
BEGIN:DAYLIGHT
TZOFFSETFROM:+0100
TZOFFSETTO:+0200
TZNAME:CEST
DTSTART:20260329T010000
END:DAYLIGHT
BEGIN:STANDARD
TZOFFSETFROM:+0200
TZOFFSETTO:+0100
TZNAME:CET
DTSTART:20261025T010000
END:STANDARD
END:VTIMEZONE
BEGIN:VEVENT
DTSTART;VALUE=DATE:20250611
DTEND;VALUE=DATE:20250616
DTSTAMP:20260421T170143
CREATED:20250311T113750Z
LAST-MODIFIED:20250407T093131Z
UID:29953-1749600000-1750031999@francescoeconomy.org
SUMMARY:Wondering and Wandering
DESCRIPTION:Writing paths towards a new economy (II edition) \nThis retreat is envisioned as a learning-by-writing workshop to stimulate reflections on how to transform relationships with others and the world\, while addressing the interconnectedness of economic\, environmental\, social\, and political (among other) challenges of current times. Specifically\, this writing retreat aims to encourage the participants to develop on-going writing projects (e.g. creative writing\, poetry\, book chapter\, article\, etc.)\, or initiate new ones\, in an inspiring location and organized\, original format. \nWondering and Wandering is a spin-off project of The Economy of Francesco. It is dedicated to developing new ways of understanding and practicing economics\, inspired by the legacy of Francis of Assisi\, spanning areas such as research\, business\, cultural events\, and education. \nTarget: to engage people interested in transforming the economics through writing and inspire new and ongoing projects \nSUPPORT THIS INITIATIVE! Help us make it accessible to more participants through our crowdfunding campaign – donate now and be part of this story.\n>CLICK HERE to know more<
URL:https://francescoeconomy.org/it/living-eof-events/wondering-and-wandering-writing-paths-towards-a-new-economy-ii-edition/
LOCATION:Lia Gård\, Lia Gård\, Lia Gård\, Norvegia
CATEGORIES:Living EoF
ATTACH;FMTTYPE=image/png:https://francescoeconomy.org/wp-content/uploads/2025/03/WonderingandWandering_2edition.png
END:VEVENT
BEGIN:VEVENT
DTSTART;TZID=Europe/Rome:20250611T100000
DTEND;TZID=Europe/Rome:20250611T110000
DTSTAMP:20260421T170143
CREATED:20250610T083112Z
LAST-MODIFIED:20250610T083230Z
UID:30839-1749636000-1749639600@francescoeconomy.org
SUMMARY:Conferenza Stampa Presso il Senato della Repubblica - SlotMob 2025
DESCRIPTION:Mercoledì 11 Giugno\, ore 10\nSala “Caduti di Nassirya” – Piazza Madama\, 11 Roma\n“Slot Mob\, un gesto collettivo di liberazione dall’azzardo di massa”\nTogliere le concessioni dell’azzardo alle società di capitali per affidarle ad una gestione pubblica e responsabile \nSaluti istituzionali\nSen. Lorenzo Basso \nIntervengono:\nCarlo Cefaloni – Giornalista Città Nuova\nMaurizio Fiasco – Sociologo\, Associazione scientifica Alea\nLuigino Bruni – Professore ordinario di Economia Politica – Lumsa\nAdriano Bordignon – Presidente Forum nazionale Associazioni familiari\nMaria Elena Simoncelli – Rete nazionale No Azzardo\nLeonardo Laterza – The Economy of Francesco \nPROPOSTA IN SINTESI \nOltre 160 miliardi di euro spesi in Italia ogni anno per l’azzardo dimostrano che “Il vero malato patologico è uno Stato che ha deciso di fare cassa sulla fragilità delle persone e sul disagio sociale ”\nSLOT MOB é la proposta di un gesto collettivo di liberazione dall’azzardo di massa per costruire una giusta economia\nPromozione a partire dal 21 giugno di iniziative diffuse in tutta Italia\nPresentazione ufficiale: 11 giugno ore 10 – Sala Stampa del Senato della Repubblica \nObiettivo\nPromuovere eventi pubblici e azioni civili per contrastare il sistema dell’azzardo legalizzato\, riaffermare la dignità sociale e sostenere un’economia giusta\, libera dalla dipendenza fiscale dallo sfruttamento della fragilità. \nIl contesto\n– In Italia\, l’industria dell’azzardo gode di tutele politiche trasversali\, con profitti garantiti dalle concessioni statali.\n– Una recente mozione parlamentare chiede di revocare il divieto di pubblicità e sponsorizzazioni alle scommesse sportive.\n– La pandemia e i conflitti bellici globali hanno ridotto l’attenzione pubblica verso lo strapotere degli interessi che fanno profitto sull’azzardo di massa. \nLa proposta  di Slot Mob\n– Promuovere il modello Slot Mob nei territori: sostenere gli esercenti che rifiutano di installare slot machine e ogni altra forma di consumo di azzardo (gratta e vinci\, superenalotto\, ecc.).\n– Proporre un consumo critico e alternativo\, costruendo relazioni sociali forti.\n– Denunciare una filiera economica recessiva – distribuita nelle città e online – che arricchisce pochi e impoverisce molti\n– Sostenere realtà educative e sanitarie che lottano contro la dipendenza da azzardo.\n– Mettere in discussione le concessioni alle società private per arrivare ad una gestione pubblica\, responsabile e non incentivante del fenomeno.\n– Lo Stato deve difendere i più fragili\, non fare cassa su di loro. \nPartecipa\, promuovi\, diffondi\nOrganizza eventi\, sostieni gli esercenti liberi dall’azzardo\, costruisci una nuova cultura economica fondata sulla giustizia e il legame sociale più forte del potere del denaro.\nPer informazioni e contatti: Email: slotmob1@gmail.com\nVedi pagina Facebook Slotmob | Pagina Instagram slot_mob \nL’accesso alla Sala Stampa del Senato – con abbigliamento consono e\, per gli uomini\, con obbligo di giacca e cravatta – è consentito fino al raggiungimento della capienza massima. \nI giornalisti e gli ospiti devono accreditarsi scrivendo a: slotmob1@gmail.com \nI giornalisti devono accreditarsi comunicando contestualmente i propri dati anagrafici\, gli estremi della tessera dell’Ordine o del documento di identità e la testata di riferimento. \nSarà possibile seguire l’evento online\, in diretta streaming su webtv.senato.it e sul canale YouTube del Senato Italiano \nNOTA BENE \nLe opinioni e i contenuti espressi nell’ambito dell’iniziativa sono nell’esclusiva responsabilità dei proponenti e dei relatori e non sono riconducibili in alcun modo al Senato della Repubblica o a organi del Senato medesimo
URL:https://francescoeconomy.org/it/living-eof-events/conferenza-stampa-presso-il-senato-della-repubblica-slotmob-2025/
LOCATION:Sala “Caduti di Nassirya”\, Piazza Madama\, 11\, Roma\, Italy\, Italy
CATEGORIES:Living EoF
ATTACH;FMTTYPE=image/jpeg:https://francescoeconomy.org/wp-content/uploads/2025/06/SlotMob2025.jpeg
END:VEVENT
END:VCALENDAR