BEGIN:VCALENDAR
VERSION:2.0
PRODID:-//The Economy of Francesco - ECPv6.15.20//NONSGML v1.0//EN
CALSCALE:GREGORIAN
METHOD:PUBLISH
X-ORIGINAL-URL:https://francescoeconomy.org
X-WR-CALDESC:Events for The Economy of Francesco
REFRESH-INTERVAL;VALUE=DURATION:PT1H
X-Robots-Tag:noindex
X-PUBLISHED-TTL:PT1H
BEGIN:VTIMEZONE
TZID:America/Mexico_City
BEGIN:STANDARD
TZOFFSETFROM:-0600
TZOFFSETTO:-0600
TZNAME:CST
DTSTART:20230101T000000
END:STANDARD
END:VTIMEZONE
BEGIN:VEVENT
DTSTART;TZID=America/Mexico_City:20240616T000000
DTEND;TZID=America/Mexico_City:20240622T000000
DTSTAMP:20260420T231431
CREATED:20240509T092748Z
LAST-MODIFIED:20240608T091859Z
UID:27106-1718496000-1719014400@francescoeconomy.org
SUMMARY:Escuela Internacional de verano con perspectiva latinoamericana - ECONOMÍAS PARA EL BUEN VIVIR
DESCRIPTION:La Escuela de Verano es un espacio de inspiración comunitaria donde exploraremos cómo la economía\, los emprendimientos\, la academia y los proyectos eco sociales e interdisciplinarios pueden transformar nuestra sociedad desde la invitación de la Economía de Francisco con la perspectiva de nuestra diversidad cultural y espiritual de América Latina y el Caribe. \nTarget: Jovenes académicos\, emprendedores y agentes de cambio \nhttps://www.imdosoc.org/escuela-internacional-verano \n​
URL:https://francescoeconomy.org/living-eof-events/escuela-internacional-de-verano-con-perspectiva-latinoamericana-economias-para-el-buen-vivir/
LOCATION:Ciudad de México\, Mexico City\, Mexico
CATEGORIES:Living EoF
ATTACH;FMTTYPE=image/jpeg:https://francescoeconomy.org/wp-content/uploads/2024/03/mexicoSumSchool-e1710776144120.jpg
END:VEVENT
END:VCALENDAR