BEGIN:VCALENDAR
VERSION:2.0
PRODID:-//The Economy of Francesco - ECPv6.15.20//NONSGML v1.0//EN
CALSCALE:GREGORIAN
METHOD:PUBLISH
X-ORIGINAL-URL:https://francescoeconomy.org
X-WR-CALDESC:Events for The Economy of Francesco
REFRESH-INTERVAL;VALUE=DURATION:PT1H
X-Robots-Tag:noindex
X-PUBLISHED-TTL:PT1H
BEGIN:VTIMEZONE
TZID:Europe/Rome
BEGIN:DAYLIGHT
TZOFFSETFROM:+0100
TZOFFSETTO:+0200
TZNAME:CEST
DTSTART:20230326T010000
END:DAYLIGHT
BEGIN:STANDARD
TZOFFSETFROM:+0200
TZOFFSETTO:+0100
TZNAME:CET
DTSTART:20231029T010000
END:STANDARD
BEGIN:DAYLIGHT
TZOFFSETFROM:+0100
TZOFFSETTO:+0200
TZNAME:CEST
DTSTART:20240331T010000
END:DAYLIGHT
BEGIN:STANDARD
TZOFFSETFROM:+0200
TZOFFSETTO:+0100
TZNAME:CET
DTSTART:20241027T010000
END:STANDARD
BEGIN:DAYLIGHT
TZOFFSETFROM:+0100
TZOFFSETTO:+0200
TZNAME:CEST
DTSTART:20250330T010000
END:DAYLIGHT
BEGIN:STANDARD
TZOFFSETFROM:+0200
TZOFFSETTO:+0100
TZNAME:CET
DTSTART:20251026T010000
END:STANDARD
END:VTIMEZONE
BEGIN:VEVENT
DTSTART;TZID=Europe/Rome:20240912T183000
DTEND;TZID=Europe/Rome:20240912T203000
DTSTAMP:20260420T144133
CREATED:20240909T150304Z
LAST-MODIFIED:20240909T150304Z
UID:28247-1726165800-1726173000@francescoeconomy.org
SUMMARY:LA SALUTE DISUGUALE
DESCRIPTION: QUANDO I DATI PARLANO ALLE POLITICHE E ALL’ECONOMIA \nL’Hub Piemonte & Valle d’Aosta organizza il SECONDO evento dell’HUB al fine di esplorare l’impatto delle disuguaglianze sanitarie sulla società. Attraverso l’analisi di dati e statistiche (Prof. Costa)\, si evidenziano le disparità nell’accesso ai servizi sanitari tra diverse fasce della popolazione. I relatori discutono come queste informazioni possono influenzare le politiche pubbliche e le strategie economiche per promuovere un sistema sanitario più equo. L’incontro mira a sensibilizzare l’uditorio sull’importanza di intervenire per ridurre le disuguaglianze. Saranno presentati casi studio (Dott.ssa Macciotta) e soluzioni innovative per affrontare queste sfide.
URL:https://francescoeconomy.org/living-eof-events/la-salute-disuguale/
LOCATION:Centro Studi San Carlo\, Via Monte di Pietà 1\, Torino\, Italy
CATEGORIES:Living EoF
ATTACH;FMTTYPE=image/jpeg:https://francescoeconomy.org/wp-content/uploads/2024/09/la-salute-disuguale.jpg
ORGANIZER;CN="EoF Hub Piemonte e Valle d'Aosta":MAILTO:piemonte@francescoeconomy.org
END:VEVENT
END:VCALENDAR