BEGIN:VCALENDAR
VERSION:2.0
PRODID:-//The Economy of Francesco - ECPv6.15.20//NONSGML v1.0//EN
CALSCALE:GREGORIAN
METHOD:PUBLISH
X-WR-CALNAME:The Economy of Francesco
X-ORIGINAL-URL:https://francescoeconomy.org
X-WR-CALDESC:Events for The Economy of Francesco
REFRESH-INTERVAL;VALUE=DURATION:PT1H
X-Robots-Tag:noindex
X-PUBLISHED-TTL:PT1H
BEGIN:VTIMEZONE
TZID:Europe/Rome
BEGIN:DAYLIGHT
TZOFFSETFROM:+0100
TZOFFSETTO:+0200
TZNAME:CEST
DTSTART:20250330T010000
END:DAYLIGHT
BEGIN:STANDARD
TZOFFSETFROM:+0200
TZOFFSETTO:+0100
TZNAME:CET
DTSTART:20251026T010000
END:STANDARD
BEGIN:DAYLIGHT
TZOFFSETFROM:+0100
TZOFFSETTO:+0200
TZNAME:CEST
DTSTART:20260329T010000
END:DAYLIGHT
BEGIN:STANDARD
TZOFFSETFROM:+0200
TZOFFSETTO:+0100
TZNAME:CET
DTSTART:20261025T010000
END:STANDARD
BEGIN:DAYLIGHT
TZOFFSETFROM:+0100
TZOFFSETTO:+0200
TZNAME:CEST
DTSTART:20270328T010000
END:DAYLIGHT
BEGIN:STANDARD
TZOFFSETFROM:+0200
TZOFFSETTO:+0100
TZNAME:CET
DTSTART:20271031T010000
END:STANDARD
END:VTIMEZONE
BEGIN:VEVENT
DTSTART;VALUE=DATE:20260610
DTEND;VALUE=DATE:20260615
DTSTAMP:20260423T191248
CREATED:20260423T134012Z
LAST-MODIFIED:20260423T134012Z
UID:33054-1781049600-1781481599@francescoeconomy.org
SUMMARY:Wondering and Wandering
DESCRIPTION:Writing Paths Towards a New Economy \nWondering and Wandering writing retreat is envisioned as a learning-by-writing workshop to stimulate reflections on how to transform relationships with others and the world\, while addressing the interconnectedness of economic\, environmental\, social\, and political (among other) challenges of current times. Specifically\, this writing retreat aims to encourage the participants to develop on-going writing projects (e.g. creative writing\, poetry\, book chapters\, articles\, etc.)\, or begin new ones\, in an inspiring location and a structured\, original format. The retreat\, which has now reached the third edition\, combines moments of silence\, focused writing sessions\, inspirational dialouges\, walking in the forest\, bonfire circle time sharing\, close contact with the natural environment and meditation.
URL:https://francescoeconomy.org/living-eof-events/wondering-and-wandering/
LOCATION:Lia Gård\, Lia Gård\, Lia Gård\, Norvegia
CATEGORIES:Living EoF
ATTACH;FMTTYPE=image/jpeg:https://francescoeconomy.org/wp-content/uploads/2026/04/WW_2026.jpg
END:VEVENT
END:VCALENDAR