BEGIN:VCALENDAR
VERSION:2.0
PRODID:-//The Economy of Francesco - ECPv6.15.20//NONSGML v1.0//EN
CALSCALE:GREGORIAN
METHOD:PUBLISH
X-ORIGINAL-URL:https://francescoeconomy.org
X-WR-CALDESC:Events for The Economy of Francesco
REFRESH-INTERVAL;VALUE=DURATION:PT1H
X-Robots-Tag:noindex
X-PUBLISHED-TTL:PT1H
BEGIN:VTIMEZONE
TZID:America/Sao_Paulo
BEGIN:STANDARD
TZOFFSETFROM:-0300
TZOFFSETTO:-0300
TZNAME:-03
DTSTART:20230101T000000
END:STANDARD
END:VTIMEZONE
BEGIN:VEVENT
DTSTART;TZID=America/Sao_Paulo:20240720T083000
DTEND;TZID=America/Sao_Paulo:20240720T163000
DTSTAMP:20260420T132229
CREATED:20240719T094055Z
LAST-MODIFIED:20240719T094055Z
UID:27891-1721464200-1721493000@francescoeconomy.org
SUMMARY:Quinto Encontro Economia de Francisco
DESCRIPTION:Cremos na comunidade como saída\, cremos na solidariedade e no clamor dos povos. Devemos iniciar processos \nAssessoria: Pe. Ms Edson André Cunha Thomassin \n> Importante que cada participante traga seu copo / garrafa / caneca para água\n> Traga sua cuia\, bomba\, erva mate\, e garrafa térmica. Haverá água quente para o chimarrão \nacredisol@gmail.com\nhttp://acredisol.blogspot.com/\nhttps://www.instagram.com/acredisol/\nhttps://www.facebook.com/ACREDISOL
URL:https://francescoeconomy.org/living-eof-events/quinto-encontro-economia-de-francisco/
LOCATION:Seminário Diocesano Nossa Senhora Aparecida\, Rua Ivo Remo Comandulli\, n. 897 – Bairro N. Sra. da Saúde\, Caxias do Sul\, Rio Grande do Sul\, Brazil
CATEGORIES:Living EoF
ATTACH;FMTTYPE=image/jpeg:https://francescoeconomy.org/wp-content/uploads/2024/07/Economia-de-Francisco.jpg
ORGANIZER;CN="Associa%C3%A7%C3%A3o de Microcr%C3%A9dito Popular e Solid%C3%A1rio %E2%80%93 ACREDISOL / RS":MAILTO:acredisol@gmail.com
END:VEVENT
END:VCALENDAR